BEGIN:VCALENDAR
VERSION:2.0
PRODID:-//eventon.com NONSGML v1.0//EN
CALSCALE:GREGORIAN
METHOD:PUBLISH
BEGIN:VEVENT
UID:69e75fa943031
DTSTAMP:20260421T112945Z
DTSTART:20260817
DTEND:20260818
LOCATION:Mio Murau
SUMMARY:Sommerferien-Betreuung FW 6
DESCRIPTION:Pädagogische Betreuung und abwechslungsreicher Ferienspaß in 
 unserem MiteinanderOrt für Familien in Murau! Themenschwerpunkt: Bewegung\
 ,  Musik &amp; Tanz- wo Rhythmus bewegt und Musik verbindet Musik spüren u
 nd einfach loslassen: In dieser Woche verwandeln wir Töne in Bewegung. Wir
  erkunden die Welt der Klänge\,  basteln kleine Percussions und entwickeln
  gemeinsam Tänze (wer[..]\nhttps://www.kindersommer.info/veranstaltungen/s
 ommerferien-betreuung-fw-6/
URL:https://www.kindersommer.info/veranstaltungen/sommerferien-betreuung-fw-6/
END:VEVENT
END:VCALENDAR