BEGIN:VCALENDAR
VERSION:2.0
PRODID:-//eventon.com NONSGML v1.0//EN
CALSCALE:GREGORIAN
METHOD:PUBLISH
BEGIN:VEVENT
UID:69e75adc703b4
DTSTAMP:20260421T110916Z
DTSTART:20260810
DTEND:20260811
LOCATION:Mio Murau
SUMMARY:Sommerferien-Betreuung FW 5
DESCRIPTION:Pädagogische Betreuung und abwechslungsreicher Ferienspaß in 
 unserem MiteinanderOrt für Familien in Murau! Themenschwerpunkt: Lebensspu
 ren – Entdecke unsere Umwelt Hast du gewusst\,  dass in alten Dingen oft 
 noch ganz viel Leben steckt? In dieser Woche dreht sich alles darum\,  die 
 Welt mit neuen Augen zu sehen. Wir gehen der Natur auf[..]\nhttps://www.kin
 dersommer.info/veranstaltungen/sommerferien-betreuung-fw-5/
URL:https://www.kindersommer.info/veranstaltungen/sommerferien-betreuung-fw-5/
END:VEVENT
END:VCALENDAR