BEGIN:VCALENDAR
VERSION:2.0
PRODID:-//eventon.com NONSGML v1.0//EN
CALSCALE:GREGORIAN
METHOD:PUBLISH
BEGIN:VEVENT
UID:69e7602ba6241
DTSTAMP:20260421T113155Z
DTSTART:20260803
DTEND:20260804
LOCATION:Mio Murau
SUMMARY:Sommerferien-Betreuung FW 4
DESCRIPTION:Pädagogische Betreuung und abwechslungsreicher Ferienspaß in 
 unserem MiteinanderOrt für Familien in Murau! Themenschwerpunkt: Die Welt 
 der Berufe – Ein Blick hinter die Kulissen In dieser Woche werden wir zu 
 Entdeckern und schauen dort vorbei\,  wo die Action passiert. Wir besuchen 
 verschiedene Betriebe in der Nachbarschaft und erleben hautnah\,  wie dort[
 ..]\nhttps://www.kindersommer.info/veranstaltungen/sommerferien-betreuung-f
 w-4/
URL:https://www.kindersommer.info/veranstaltungen/sommerferien-betreuung-fw-4/
END:VEVENT
END:VCALENDAR