BEGIN:VCALENDAR
VERSION:2.0
PRODID:-//eventon.com NONSGML v1.0//EN
CALSCALE:GREGORIAN
METHOD:PUBLISH
BEGIN:VEVENT
UID:69e75c50e8b9c
DTSTAMP:20260421T111528Z
DTSTART:20260817
DTEND:20260818
LOCATION:Ponyhof Schrattenberg St. Lorenzen 12\,  8811 Scheifling
SUMMARY:Reitercamps 2026 - 4. Camp
DESCRIPTION:Es finden pro Tag drei Reiteinheiten statt. Diese werden indivi
 duell gestaltet und an das Können der Kinder angepasst. Die Reiteinheiten 
 bestehen aus Dressurstunden\,  Springstunden\,  Reiten ohne Sattel\,  gefü
 hrten Ausritten und Voltigieren. Wir legen sehr viel Wert auf ordentlichen 
 Reitunterricht. Die Kinder sollten in diesen 5 tagen zumindest leichttrübe
 n und aussitzen[..]\nhttps://www.kindersommer.info/veranstaltungen/reiterca
 mps-2026-4-camp/
URL:https://www.kindersommer.info/veranstaltungen/reitercamps-2026-4-camp/
END:VEVENT
END:VCALENDAR