BEGIN:VCALENDAR
VERSION:2.0
PRODID:-//eventon.com NONSGML v1.0//EN
CALSCALE:GREGORIAN
METHOD:PUBLISH
BEGIN:VEVENT
UID:69e75f4026008
DTSTAMP:20260421T112800Z
DTSTART:20260713
DTEND:20260714
LOCATION:Ponyhof Schrattenberg St. Lorenzen 12\,  8811 Scheifling
SUMMARY:Reitercamps 2026 - 1. Camp
DESCRIPTION:Es finden pro Tag drei Reiteinheiten statt. Diese werden indivi
 duell gestaltet und an das Können der Kinder angepasst. Die Reiteinheiten 
 bestehen aus Dressurstunden\,  Springstunden\,  Reiten ohne Sattel\,  gefü
 hrten Ausritten und Voltigieren. Wir legen sehr viel Wert auf ordentlichen 
 Reitunterricht. Die Kinder sollten in diesen 5 tagen zumindest leichttrübe
 n und aussitzen[..]\nhttps://www.kindersommer.info/veranstaltungen/ferien-a
 m-erlebisbauernhof-und-tierpark-prieler-3-tage-3/
URL:https://www.kindersommer.info/veranstaltungen/ferien-am-erlebisbauernhof-und-tierpark-prieler-3-tage-3/
END:VEVENT
END:VCALENDAR