BEGIN:VCALENDAR
VERSION:2.0
PRODID:-//eventon.com NONSGML v1.0//EN
CALSCALE:GREGORIAN
METHOD:PUBLISH
BEGIN:VEVENT
UID:69e87e13145fb
DTSTAMP:20260422T075147Z
DTSTART:20260817
DTEND:20260818
LOCATION:Bauernhof Prieler Panoramastraße 6\,  8811 Scheifling
SUMMARY:Ferien am Erlebisbauernhof und Tierpark Prieler (5 Tage)
DESCRIPTION:In den Ferientagen &#8230; &#8230; den Lernort Bauernhof und Ti
 erpark mit allen Sinnen erleben und eine Vielzahl an Tieren kennenlernen. G
 emeinsam wird das Areal erkundet. Nach dem morgendlichen Füttern\,  Strei
 cheln und Versorgen der Tiere findet jeden Tag ein Schwerpunkt rund um ein 
 Tier statt. Neben der praxis- nahen Wissensvermittlung steht[..]\nhttps://w
 ww.kindersommer.info/veranstaltungen/ferien-am-erlebisbauernhof-und-tierpar
 k-prieler-5-tage-2/
URL:https://www.kindersommer.info/veranstaltungen/ferien-am-erlebisbauernhof-und-tierpark-prieler-5-tage-2/
END:VEVENT
END:VCALENDAR