BEGIN:VCALENDAR
VERSION:2.0
PRODID:-//eventon.com NONSGML v1.0//EN
CALSCALE:GREGORIAN
METHOD:PUBLISH
BEGIN:VEVENT
UID:69e75bcf07309
DTSTAMP:20260421T111319Z
DTSTART:20260720
DTEND:20260721
LOCATION:UNION Sportverein Teufenbach - Tennisplatz 8833 Teufenbach\,  Parkallee 4
SUMMARY:Tenniskurs - Sportverein Teufenbach
DESCRIPTION:Der UNION Sportverein Teufenbach bietet für alle tennisintress
 ierten Kinder einen Anfängerkurs an. Geboten wird ein abwechslungsreiche
 s Tennis- und Bewegungsprogramm und natürlich auch eine sportliche Woche 
 voller Spaß und Action! Trainer: Herbert Langmaier &amp; Amer Pajic (Spor
 tpädagoge) Unterstützung durch: Sarah Judmaier und Laura Taxacher &nbsp; 
 Die Teilnehmer/innen werden Aufgrund ihrer Spielstärke in Gruppen eingetei
 lt. Persönliche[..]\nhttps://www.kindersommer.info/veranstaltungen/tennisk
 urs-sportverein-teufenbach-3/
URL:https://www.kindersommer.info/veranstaltungen/tenniskurs-sportverein-teufenbach-3/
END:VEVENT
END:VCALENDAR