BEGIN:VCALENDAR
VERSION:2.0
PRODID:-//eventon.com NONSGML v1.0//EN
CALSCALE:GREGORIAN
METHOD:PUBLISH
BEGIN:VEVENT
UID:69e758e0dbef7
DTSTAMP:20260421T110048Z
DTSTART:20260803
DTEND:20260804
LOCATION:Sportzentrum St. Georgen ob Judenburg
SUMMARY:St. Georgen ob Judenburg - regioMOTION Kindersportcamp
DESCRIPTION:Beim polysportiven Kindersportcamp geht es um Spaß und Freude 
 an der Bewegung. Polysportiv bedeutet\,  dass diverse Spiele und Übungen a
 us den verschiedensten Bereichen angeboten werden. Von koordinativen Übung
 en über Wurf- &amp; Fangübungen\,  Fußball\,  Völkerball\,  Brennball b
 is hin zu Gleichgewichtsübungen sowie Ausprobieren von aktuellen Trendspor
 tarten. Spaß an Bewegung in allen Altersgruppen[..]\nhttps://www.kindersom
 mer.info/veranstaltungen/st-georgen-ob-judenburg-regiomotion-kindersportcam
 p-3/
URL:https://www.kindersommer.info/veranstaltungen/st-georgen-ob-judenburg-regiomotion-kindersportcamp-3/
END:VEVENT
END:VCALENDAR