BEGIN:VCALENDAR
VERSION:2.0
PRODID:-//eventon.com NONSGML v1.0//EN
CALSCALE:GREGORIAN
METHOD:PUBLISH
BEGIN:VEVENT
UID:69e6feb852ec6
DTSTAMP:20260421T043608Z
DTSTART:20260720
DTEND:20260721
LOCATION:Sportplatz Murau - SVU Murau Römersiedlung 61a\,  8850 St. Egidi
SUMMARY:Murau - regioMOTION Kindersportcamp
DESCRIPTION:Beim polysportiven Kindersportcamp geht es um Spaß und Freude 
 an der Bewegung. Polysportiv bedeutet\,  dass diverse Spiele und Übungen a
 us den verschiedensten Bereichen angeboten werden. Von koordinativen Übung
 en über Wurf- &amp; Fangübungen\,  Fußball\,  Völkerball\,  Brennball b
 is hin zu Gleichgewichtsübungen sowie Ausprobieren von aktuellen Trendspor
 tarten. Spaß an Bewegung in allen Altersgruppen[..]\nhttps://www.kindersom
 mer.info/veranstaltungen/murau-regiomotion-kindersportcamp-3/
URL:https://www.kindersommer.info/veranstaltungen/murau-regiomotion-kindersportcamp-3/
END:VEVENT
END:VCALENDAR