BEGIN:VCALENDAR
VERSION:2.0
PRODID:-//eventon.com NONSGML v1.0//EN
CALSCALE:GREGORIAN
METHOD:PUBLISH
BEGIN:VEVENT
UID:69e75ab372128
DTSTAMP:20260421T110835Z
DTSTART:20260817T110000Z
DTEND:20260822T105900Z
LOCATION:Birkenstadion Oberwölz Vorstadt 120\,  8832 Oberwölz Stadt
SUMMARY:Oberwölz - regioMOTION Kindersportcamp 2
DESCRIPTION:Beim polysportiven Kindersportcamp geht es um Spaß und Freude 
 an der Bewegung. Polysportiv bedeutet\,  dass diverse Spiele und Übungen a
 us den verschiedensten Bereichen angeboten werden. Von koordinativen Übung
 en über Wurf- &amp; Fangübungen\,  Fußball\,  Völkerball\,  Brennball b
 is hin zu Gleichgewichtsübungen sowie Ausprobieren von aktuellen Trendspor
 tarten. Spaß an Bewegung in allen Altersgruppen[..]\nhttps://www.kindersom
 mer.info/veranstaltungen/oberwoelz-regiomotion-kindersportcamp-2-3/
URL:https://www.kindersommer.info/veranstaltungen/oberwoelz-regiomotion-kindersportcamp-2-3/
END:VEVENT
END:VCALENDAR