BEGIN:VCALENDAR
VERSION:2.0
PRODID:-//eventon.com NONSGML v1.0//EN
CALSCALE:GREGORIAN
METHOD:PUBLISH
BEGIN:VEVENT
UID:69e87e54e23b6
DTSTAMP:20260422T075252Z
DTSTART:20260727
DTEND:20260728
LOCATION:Golfclub Grebenzen-Mariahof
SUMMARY:Junior Sommer - Golf Camp
DESCRIPTION:Junior-Spieler &#8230;Â  &#8230; und die\,  die es noch werden 
 wollen sind eingeladen am 2-taÌˆgigen Golfcamp teilzunehmen und in die Welt
  des Golfspiels einzutauchen. Ziel des Camps ist es nicht nur golfspezifisc
 hes Training zu erhalten\,  sondern auch altersgerecht Fertigkeiten im Koor
 dinativen\,  Kraft-\,  Beweglich-\,  Geschicklichkeitsbereich\,  KreativitÃ
 ¤t und soziale Kompetenz zu fÃ¶rdern. Betreuung:[..]\nhttps://www.kindersom
 mer.info/veranstaltungen/junior-sommer-golf-camp-2/
URL:https://www.kindersommer.info/veranstaltungen/junior-sommer-golf-camp-2/
END:VEVENT
END:VCALENDAR