BEGIN:VCALENDAR
VERSION:2.0
PRODID:-//eventon.com NONSGML v1.0//EN
CALSCALE:GREGORIAN
METHOD:PUBLISH
BEGIN:VEVENT
UID:69e74e10ef552
DTSTAMP:20260421T101440Z
DTSTART:20250804
DTEND:20250805
LOCATION:Bauernhof Prieler Panoramastraße 6\,  8811 Scheifling
SUMMARY:Ferien am Erlebisbauernhof und Tierpark Prieler (5 Tage)
DESCRIPTION:In den Ferientagen &#8230; &#8230; den Lernort Bauernhof und Ti
 erpark mit allen Sinnen erleben und eine Vielzahl an Tieren kennenlernen. G
 emeinsam wird das Areal erkundet. Nach dem morgendlichen Füttern\,  Strei
 cheln und Versorgen der Tiere findet jeden Tag ein Schwerpunkt rund um ein 
 Tier statt. Neben der praxis- nahen Wissensvermittlung steht[..]\nhttps://w
 ww.kindersommer.info/veranstaltungen/ferien-am-erlebisbauernhof-und-tierpar
 k-prieler-5-tage/
URL:https://www.kindersommer.info/veranstaltungen/ferien-am-erlebisbauernhof-und-tierpark-prieler-5-tage/
END:VEVENT
END:VCALENDAR