BEGIN:VCALENDAR
VERSION:2.0
PRODID:-//eventon.com NONSGML v1.0//EN
CALSCALE:GREGORIAN
METHOD:PUBLISH
BEGIN:VEVENT
UID:69e74d69e8262
DTSTAMP:20260421T101153Z
DTSTART:20250818
DTEND:20250819
LOCATION:Sportplatz Scheifling Murtalblick 2\,  8811 Scheifling
SUMMARY:Scheifling - regioMOTION Kindersportcamp
DESCRIPTION:Beim polysportiven Kindersportcamp geht es um Spaß und Freude 
 an der Bewegung. Polysportiv bedeutet\,  dass diverse Spiele und Übungen a
 us den verschiedensten Bereichen angeboten werden. Von koordinativen Übung
 en über Wurf- &amp; Fangübungen\,  Fußball\,  Völkerball\,  Brennball b
 is hin zu Gleichgewichtsübungen sowie Ausprobieren von aktuellen Trendspor
 tarten. Spaß an Bewegung in allen Altersgruppen[..]\nhttps://www.kindersom
 mer.info/veranstaltungen/scheifling-regiomotion-kindersportcamp-2/
URL:https://www.kindersommer.info/veranstaltungen/scheifling-regiomotion-kindersportcamp-2/
END:VEVENT
END:VCALENDAR