BEGIN:VCALENDAR
VERSION:2.0
PRODID:-//eventon.com NONSGML v1.0//EN
CALSCALE:GREGORIAN
METHOD:PUBLISH
BEGIN:VEVENT
UID:69e87c59266ba
DTSTAMP:20260422T074425Z
DTSTART:20260810
DTEND:20260811
LOCATION:Hotel Restaurant Brauhaus zu Murau Raffaltplatz 18
SUMMARY:Active Coding Week
DESCRIPTION:Am Programm stehen: Robotik: Bau deinen eigenen Roboter! App-De
 veloping: Was steckt hinter den App-Symbolen? Games World: Lerne die Welt d
 er Spiele kennen! Virtual Reality: Beweg dich durch die digitale Welt! Vide
 o-Star: Tauch ein in die Welt von StopMotion! Code&#8217;n&#8217;stitch: De
 in cooles Muster am T-Shirt! Motorik-Challenge: Gleichgewicht und Koordinat
 ion Klettern: Hab[..]\nhttps://www.kindersommer.info/veranstaltungen/active
 -coding-week/
URL:https://www.kindersommer.info/veranstaltungen/active-coding-week/
END:VEVENT
END:VCALENDAR