BEGIN:VCALENDAR
VERSION:2.0
PRODID:-//eventon.com NONSGML v1.0//EN
CALSCALE:GREGORIAN
METHOD:PUBLISH
BEGIN:VEVENT
UID:69e87ce9de27e
DTSTAMP:20260422T074649Z
DTSTART:20260810
DTEND:20260811
LOCATION:Kindergarten Teufenbach
SUMMARY:Jeux Dramatiques und Kinderyoga
DESCRIPTION:Dieses Jahr wird es lebendig\,  kreativ und kraftvoll! Gemeinsa
 m singen\,  musizieren\,  trommeln und bewegen wir uns durch eine Woche vol
 ler Ausdruck. Fantasie und innerer Stärke. Mit Jeux Dramatiques\,  Yoga\, 
  Musik und Rhythmus machen wir uns auf die Suche nach unserem ganz persönl
 ichen Beat. Jedes Kind bringt eine eigene Superkraft mit[..]\nhttps://www.k
 indersommer.info/veranstaltungen/jeux-dramatiques-und-kinderyoga-1-woche/
URL:https://www.kindersommer.info/veranstaltungen/jeux-dramatiques-und-kinderyoga-1-woche/
END:VEVENT
END:VCALENDAR