BEGIN:VCALENDAR
VERSION:2.0
PRODID:-//eventon.com NONSGML v1.0//EN
CALSCALE:GREGORIAN
METHOD:PUBLISH
BEGIN:VEVENT
UID:69e5fe0447d4c
DTSTAMP:20260420T102052Z
DTSTART:20240812
DTEND:20240813
LOCATION:Bauernhof Prieler Panoramastraße 6\,  8811 Scheifling
SUMMARY:Ferien am Erlebisbauernhof und Tierpark Prieler (3 Tage)
DESCRIPTION:In den Ferientagen &#8230; &#8230; am Erlebnisbauernhof Prieler
  können Kinder einen Bauernhof mit allen Sinnen erleben und viele verschie
 dene Tiere kennenlernen. Gemeinsam wird der Bauernhof erkundet. Nach dem mo
 rgendlichen Füttern\,  Streicheln und Versorgen der Tiere findet jeden Tag
  ein Schwerpunkt rund um ein Tier statt. Neben der praxisnahen Wissensvermi
 ttlung steht[..]\nhttps://www.kindersommer.info/veranstaltungen/ferien-am-e
 rlebisbauernhof-und-tierpark-prieler-3-tage/
URL:https://www.kindersommer.info/veranstaltungen/ferien-am-erlebisbauernhof-und-tierpark-prieler-3-tage/
END:VEVENT
END:VCALENDAR