BEGIN:VCALENDAR
VERSION:2.0
PRODID:-//eventon.com NONSGML v1.0//EN
CALSCALE:GREGORIAN
METHOD:PUBLISH
BEGIN:VEVENT
UID:69e69c4351393
DTSTAMP:20260420T213603Z
DTSTART:20260802T110000Z
DTEND:20260810T105900Z
LOCATION:Stift St. Lambrecht Hauptstraße 1 8813 St. Lambrecht
SUMMARY:Theatercamp 2 "Wandelbühne"
DESCRIPTION:Im Theatercamp begibt man sich gemeinsam für mehrere Tage auf 
 eine intensive Reise durch die Welt des Theaters\,  bei der man alle Bereic
 he und Aspekte kennenlernt und sich selbst kreativ einbringen kann. Neben d
 en szenischen Proben – als Abschluss des Theatercamps finden mehrere Vors
 tellungen vor einem großen Publikum statt –[..]\nhttps://www.kindersomme
 r.info/veranstaltungen/theatercamp-2-wandelbuehne-4/
URL:https://www.kindersommer.info/veranstaltungen/theatercamp-2-wandelbuehne-4/
END:VEVENT
END:VCALENDAR