BEGIN:VCALENDAR
VERSION:2.0
PRODID:-//eventon.com NONSGML v1.0//EN
CALSCALE:GREGORIAN
METHOD:PUBLISH
BEGIN:VEVENT
UID:69eaba4da0298
DTSTAMP:20260424T003317Z
DTSTART:20240708T110000Z
DTEND:20240713T105900Z
LOCATION:Birkenstadion Oberwölz Vorstadt 120\,  8832 Oberwölz Stadt
SUMMARY:Oberwölz - regioMOTION Kindersportcamp
DESCRIPTION:Beim polysportiven Kindersportcamp geht es um Spaß und Freude 
 an der Bewegung. Polysportiv bedeutet\,  dass diverse Spiele und Übungen a
 us den verschiedensten Bereichen angeboten werden. Von koordinativen Übung
 en über Wurf- &amp; Fangübungen\,  Fußball\,  Völkerball\,  Brennball b
 is hin zu Gleichgewichtsübungen sowie Ausprobieren von aktuellen Trendspor
 tarten. Spaß an Bewegung in allen Altersgruppen[..]\nhttps://www.kindersom
 mer.info/veranstaltungen/oberwoelz-regiomotion-kindersportcamp/
URL:https://www.kindersommer.info/veranstaltungen/oberwoelz-regiomotion-kindersportcamp/
END:VEVENT
END:VCALENDAR