BEGIN:VCALENDAR
VERSION:2.0
PRODID:-//eventon.com NONSGML v1.0//EN
CALSCALE:GREGORIAN
METHOD:PUBLISH
BEGIN:VEVENT
UID:69e759e7846cd
DTSTAMP:20260421T110511Z
DTSTART:20260819T110000Z
DTEND:20260822T105900Z
LOCATION:Gemeindepark Teufenbach Teufenbach
SUMMARY:Stimmwerkstatt
DESCRIPTION:Gemeinsames Singen begeistert\,  motiviert und unter​stützt 
 die Entwicklung von Körper\,  Geist und Seele. Das ​Singen in Gemeinscha
 ft fördert den respektvollen und wertschätzenden Umgang mit Anderen und s
 tärkt das Selbst- und Team-Bewusstsein. Stimmwerkstatt heißt experimentie
 ren &#8211; aus vielen kleinen Bausteinen etwas Großes schaffen. Nicht nur
  das Singen wird im Vordergrund stehen\, [..]\nhttps://www.kindersommer.inf
 o/veranstaltungen/stimmwerkstatt/
URL:https://www.kindersommer.info/veranstaltungen/stimmwerkstatt/
END:VEVENT
END:VCALENDAR